Package: transmogR Version: 1.5.2 Command: /home/biocbuild/bbs-3.22-bioc/R/bin/R CMD INSTALL transmogR StartedAt: 2025-10-10 15:52:04 -0400 (Fri, 10 Oct 2025) EndedAt: 2025-10-10 15:52:45 -0400 (Fri, 10 Oct 2025) EllapsedTime: 41.1 seconds RetCode: 0 Status: OK