Package: transmogR Version: 1.7.0 Command: /home/biocbuild/bbs-3.23-bioc/R/bin/R CMD INSTALL transmogR StartedAt: 2025-11-18 16:32:45 -0500 (Tue, 18 Nov 2025) EndedAt: 2025-11-18 16:33:25 -0500 (Tue, 18 Nov 2025) EllapsedTime: 40.2 seconds RetCode: 0 Status: OK