Package: transmogR Version: 1.7.0 Command: /home/biocbuild/bbs-3.23-bioc/R/bin/R CMD build --keep-empty-dirs --no-resave-data transmogR StartedAt: 2025-11-18 21:25:13 -0500 (Tue, 18 Nov 2025) EndedAt: 2025-11-18 21:26:30 -0500 (Tue, 18 Nov 2025) EllapsedTime: 77.1 seconds RetCode: 0 Status: OK PackageFile: transmogR_1.7.0.tar.gz PackageFileSize: 582.2 KiB