Package: transmogR Version: 1.5.2 Command: /Library/Frameworks/R.framework/Resources/bin/R CMD INSTALL transmogR StartedAt: 2025-10-15 15:36:44 -0400 (Wed, 15 Oct 2025) EndedAt: 2025-10-15 15:37:43 -0400 (Wed, 15 Oct 2025) EllapsedTime: 58.8 seconds RetCode: 0 Status: OK