Package: transmogR Version: 1.5.2 Command: /Library/Frameworks/R.framework/Resources/bin/R CMD build --keep-empty-dirs --no-resave-data transmogR StartedAt: 2025-10-16 20:14:27 -0400 (Thu, 16 Oct 2025) EndedAt: 2025-10-16 20:16:01 -0400 (Thu, 16 Oct 2025) EllapsedTime: 93.5 seconds RetCode: 0 Status: OK PackageFile: transmogR_1.5.2.tar.gz PackageFileSize: 589.2 KiB