Package: transmogR Version: 1.5.2 Command: rm -rf transmogR.buildbin-libdir && mkdir transmogR.buildbin-libdir && /Users/biocbuild/BBS/utils/build-universal.sh transmogR_1.5.2.tar.gz /Library/Frameworks/R.framework/Resources/bin/R transmogR.buildbin-libdir StartedAt: 2025-10-18 03:27:46 -0400 (Sat, 18 Oct 2025) EndedAt: 2025-10-18 03:28:48 -0400 (Sat, 18 Oct 2025) EllapsedTime: 61.8 seconds RetCode: 0 Status: OK PackageFile: transmogR_1.5.2.tgz PackageFileSize: 660.2 KiB