Package: transmogR Version: 1.5.1 Command: /Library/Frameworks/R.framework/Resources/bin/R CMD INSTALL transmogR StartedAt: 2025-10-05 15:20:49 -0400 (Sun, 05 Oct 2025) EndedAt: 2025-10-05 15:21:06 -0400 (Sun, 05 Oct 2025) EllapsedTime: 16.8 seconds RetCode: 0 Status: OK