Package: transmogR Version: 1.5.1 Command: /Library/Frameworks/R.framework/Resources/bin/R CMD build --keep-empty-dirs --no-resave-data transmogR StartedAt: 2025-10-03 17:57:53 -0400 (Fri, 03 Oct 2025) EndedAt: 2025-10-03 17:58:22 -0400 (Fri, 03 Oct 2025) EllapsedTime: 28.3 seconds RetCode: 1 Status: ERROR PackageFile: None PackageFileSize: NA