Package: transmogR Version: 1.5.1 Command: rm -rf transmogR.buildbin-libdir && mkdir transmogR.buildbin-libdir && /Users/biocbuild/BBS/utils/build-universal.sh transmogR_1.5.1.tar.gz /Library/Frameworks/R.framework/Resources/bin/R transmogR.buildbin-libdir StartedAt: 2025-09-10 23:57:50 -0400 (Wed, 10 Sep 2025) EndedAt: 2025-09-10 23:58:08 -0400 (Wed, 10 Sep 2025) EllapsedTime: 18.4 seconds RetCode: 0 Status: OK PackageFile: transmogR_1.5.1.tgz PackageFileSize: 672.5 KiB