Package: transite Version: 1.29.0 Command: /home/biocbuild/bbs-3.23-bioc/R/bin/R CMD INSTALL transite StartedAt: 2025-11-20 15:30:37 -0500 (Thu, 20 Nov 2025) EndedAt: 2025-11-20 15:30:59 -0500 (Thu, 20 Nov 2025) EllapsedTime: 22.5 seconds RetCode: 0 Status: OK