Package: transite Version: 1.27.1 Command: rm -rf transite.buildbin-libdir && mkdir transite.buildbin-libdir && /Users/biocbuild/BBS/utils/build-universal.sh transite_1.27.1.tar.gz /Library/Frameworks/R.framework/Resources/bin/R transite.buildbin-libdir StartedAt: 2025-10-14 23:41:40 -0400 (Tue, 14 Oct 2025) EndedAt: 2025-10-14 23:41:49 -0400 (Tue, 14 Oct 2025) EllapsedTime: 9.2 seconds RetCode: 0 Status: OK PackageFile: transite_1.27.1.tgz PackageFileSize: 1.051 MiB