Package: transformGamPoi Version: 1.15.0 Command: /home/biocbuild/R/R/bin/R CMD INSTALL transformGamPoi StartedAt: 2025-10-13 21:15:45 -0000 (Mon, 13 Oct 2025) EndedAt: 2025-10-13 21:15:59 -0000 (Mon, 13 Oct 2025) EllapsedTime: 14.0 seconds RetCode: 0 Status: OK