Package: transformGamPoi Version: 1.15.0 Command: rm -rf transformGamPoi.buildbin-libdir && mkdir transformGamPoi.buildbin-libdir && F:\biocbuild\bbs-3.22-bioc\R\bin\R.exe CMD INSTALL --build --library=transformGamPoi.buildbin-libdir transformGamPoi_1.15.0.tar.gz StartedAt: 2025-08-15 11:31:25 -0400 (Fri, 15 Aug 2025) EndedAt: 2025-08-15 11:31:44 -0400 (Fri, 15 Aug 2025) EllapsedTime: 18.9 seconds RetCode: 0 Status: OK PackageFile: transformGamPoi_1.15.0.zip PackageFileSize: 786.8 KiB