Package: transformGamPoi Version: 1.15.0 Command: /home/biocbuild/bbs-3.22-bioc/R/bin/R CMD check --install=check:transformGamPoi.install-out.txt --library=/home/biocbuild/bbs-3.22-bioc/R/site-library --timings transformGamPoi_1.15.0.tar.gz StartedAt: 2025-10-04 05:14:27 -0400 (Sat, 04 Oct 2025) EndedAt: 2025-10-04 05:16:58 -0400 (Sat, 04 Oct 2025) EllapsedTime: 151.1 seconds RetCode: 0 Status: OK CheckDir: transformGamPoi.Rcheck Warnings: 0