Package: transformGamPoi Version: 1.17.0 Command: /home/biocbuild/bbs-3.23-bioc/R/bin/R CMD check --install=check:transformGamPoi.install-out.txt --library=/home/biocbuild/bbs-3.23-bioc/R/site-library --timings transformGamPoi_1.17.0.tar.gz StartedAt: 2025-11-07 04:39:45 -0500 (Fri, 07 Nov 2025) EndedAt: 2025-11-07 04:42:15 -0500 (Fri, 07 Nov 2025) EllapsedTime: 150.2 seconds RetCode: 0 Status: OK CheckDir: transformGamPoi.Rcheck Warnings: 0