Package: transcriptogramer Version: 1.33.0 Command: /home/biocbuild/bbs-3.23-bioc/R/bin/R CMD INSTALL transcriptogramer StartedAt: 2025-11-20 15:39:37 -0500 (Thu, 20 Nov 2025) EndedAt: 2025-11-20 15:40:03 -0500 (Thu, 20 Nov 2025) EllapsedTime: 26.1 seconds RetCode: 0 Status: OK