Package: transcriptogramer Version: 1.33.0 Command: /home/biocbuild/bbs-3.23-bioc/R/bin/R CMD check --install=check:transcriptogramer.install-out.txt --library=/home/biocbuild/bbs-3.23-bioc/R/site-library --timings transcriptogramer_1.33.0.tar.gz StartedAt: 2025-11-21 04:55:54 -0500 (Fri, 21 Nov 2025) EndedAt: 2025-11-21 05:11:06 -0500 (Fri, 21 Nov 2025) EllapsedTime: 911.2 seconds RetCode: 0 Status: OK CheckDir: transcriptogramer.Rcheck Warnings: 0