Package: transcriptR Version: 1.39.0 Command: /home/biocbuild/bbs-3.23-bioc/R/bin/R CMD INSTALL transcriptR StartedAt: 2025-10-31 16:07:42 -0400 (Fri, 31 Oct 2025) EndedAt: 2025-10-31 16:08:29 -0400 (Fri, 31 Oct 2025) EllapsedTime: 47.3 seconds RetCode: 0 Status: OK