Package: transcriptR Version: 1.39.0 Command: /home/biocbuild/bbs-3.23-bioc/R/bin/R CMD check --install=check:transcriptR.install-out.txt --library=/home/biocbuild/bbs-3.23-bioc/R/site-library --timings transcriptR_1.39.0.tar.gz StartedAt: 2025-11-01 04:25:55 -0400 (Sat, 01 Nov 2025) EndedAt: 2025-11-01 04:33:44 -0400 (Sat, 01 Nov 2025) EllapsedTime: 469.5 seconds RetCode: 1 Status: ERROR CheckDir: transcriptR.Rcheck Warnings: NA