Package: transcriptR Version: 1.38.0 Command: /Library/Frameworks/R.framework/Resources/bin/R CMD check --install=check:transcriptR.install-out.txt --library=/Library/Frameworks/R.framework/Resources/library --no-vignettes --timings transcriptR_1.38.0.tar.gz StartedAt: 2025-10-30 04:56:31 -0400 (Thu, 30 Oct 2025) EndedAt: 2025-10-30 04:59:19 -0400 (Thu, 30 Oct 2025) EllapsedTime: 168.0 seconds RetCode: 1 Status: ERROR CheckDir: transcriptR.Rcheck Warnings: NA