Package: tradeSeq Version: 1.25.0 Command: /home/biocbuild/bbs-3.23-bioc/R/bin/R CMD INSTALL tradeSeq StartedAt: 2025-11-20 15:24:45 -0500 (Thu, 20 Nov 2025) EndedAt: 2025-11-20 15:25:17 -0500 (Thu, 20 Nov 2025) EllapsedTime: 32.3 seconds RetCode: 0 Status: OK