Package: tradeSeq Version: 1.25.0 Command: /home/biocbuild/bbs-3.23-bioc/R/bin/R CMD build --keep-empty-dirs --no-resave-data tradeSeq StartedAt: 2025-11-20 20:34:44 -0500 (Thu, 20 Nov 2025) EndedAt: 2025-11-20 20:41:28 -0500 (Thu, 20 Nov 2025) EllapsedTime: 403.4 seconds RetCode: 0 Status: OK PackageFile: tradeSeq_1.25.0.tar.gz PackageFileSize: 5.161 MiB