Package: tradeSeq Version: 1.25.0 Command: /Library/Frameworks/R.framework/Resources/bin/R CMD INSTALL tradeSeq StartedAt: 2025-11-21 15:32:04 -0500 (Fri, 21 Nov 2025) EndedAt: 2025-11-21 15:32:47 -0500 (Fri, 21 Nov 2025) EllapsedTime: 42.8 seconds RetCode: 0 Status: OK