Package: tradeSeq Version: 1.25.0 Command: /Library/Frameworks/R.framework/Resources/bin/R CMD build --keep-empty-dirs --no-resave-data tradeSeq StartedAt: 2025-11-20 19:02:43 -0500 (Thu, 20 Nov 2025) EndedAt: 2025-11-20 19:09:54 -0500 (Thu, 20 Nov 2025) EllapsedTime: 431.8 seconds RetCode: 0 Status: OK PackageFile: tradeSeq_1.25.0.tar.gz PackageFileSize: 5.962 MiB