Package: tradeSeq Version: 1.25.0 Command: rm -rf tradeSeq.buildbin-libdir && mkdir tradeSeq.buildbin-libdir && /Users/biocbuild/BBS/utils/build-universal.sh tradeSeq_1.25.0.tar.gz /Library/Frameworks/R.framework/Resources/bin/R tradeSeq.buildbin-libdir StartedAt: 2025-11-21 02:02:15 -0500 (Fri, 21 Nov 2025) EndedAt: 2025-11-21 02:03:04 -0500 (Fri, 21 Nov 2025) EllapsedTime: 48.9 seconds RetCode: 0 Status: OK PackageFile: tradeSeq_1.25.0.tgz PackageFileSize: 5.528 MiB