Package: tradeSeq Version: 1.25.0 Command: /Library/Frameworks/R.framework/Resources/bin/R CMD build --keep-empty-dirs --no-resave-data tradeSeq StartedAt: 2025-11-20 17:59:48 -0500 (Thu, 20 Nov 2025) EndedAt: 2025-11-20 18:02:19 -0500 (Thu, 20 Nov 2025) EllapsedTime: 150.8 seconds RetCode: 1 Status: ERROR PackageFile: None PackageFileSize: NA