Package: tracktables Version: 1.45.0 Command: /home/biocbuild/bbs-3.23-bioc/R/bin/R CMD INSTALL tracktables StartedAt: 2025-11-06 15:56:26 -0500 (Thu, 06 Nov 2025) EndedAt: 2025-11-06 15:56:39 -0500 (Thu, 06 Nov 2025) EllapsedTime: 13.3 seconds RetCode: 0 Status: OK