Package: tracktables Version: 1.45.0 Command: /home/biocbuild/bbs-3.23-bioc/R/bin/R CMD build --keep-empty-dirs --no-resave-data tracktables StartedAt: 2025-11-05 20:34:17 -0500 (Wed, 05 Nov 2025) EndedAt: 2025-11-05 20:34:38 -0500 (Wed, 05 Nov 2025) EllapsedTime: 21.0 seconds RetCode: 0 Status: OK PackageFile: tracktables_1.45.0.tar.gz PackageFileSize: 355.6 KiB