Package: tracktables Version: 1.43.0 Command: /Library/Frameworks/R.framework/Resources/bin/R CMD build --keep-empty-dirs --no-resave-data tracktables StartedAt: 2025-10-12 19:36:35 -0400 (Sun, 12 Oct 2025) EndedAt: 2025-10-12 19:37:05 -0400 (Sun, 12 Oct 2025) EllapsedTime: 29.7 seconds RetCode: 0 Status: OK PackageFile: tracktables_1.43.0.tar.gz PackageFileSize: 355.4 KiB