Package: tracktables Version: 1.43.0 Command: rm -rf tracktables.buildbin-libdir && mkdir tracktables.buildbin-libdir && /Users/biocbuild/BBS/utils/build-universal.sh tracktables_1.43.0.tar.gz /Library/Frameworks/R.framework/Resources/bin/R tracktables.buildbin-libdir StartedAt: 2025-10-13 03:02:13 -0400 (Mon, 13 Oct 2025) EndedAt: 2025-10-13 03:02:35 -0400 (Mon, 13 Oct 2025) EllapsedTime: 22.2 seconds RetCode: 0 Status: OK PackageFile: tracktables_1.43.0.tgz PackageFileSize: 403.1 KiB