Package: tracktables Version: 1.45.0 Maintainer: Tom Carroll MaintainerEmail: tc.infomatics at gmail.com git_url: https://git.bioconductor.org/packages/tracktables git_branch: devel git_last_commit: 6d7475c git_last_commit_date: 2025-10-29 10:22:38 -0400 (Wed, 29 Oct 2025)