Package: trackViewer Version: 1.45.2 Command: chmod a+r trackViewer -R && F:\biocbuild\bbs-3.22-bioc\R\bin\R.exe CMD build --keep-empty-dirs --no-resave-data trackViewer StartedAt: 2025-08-14 23:48:50 -0400 (Thu, 14 Aug 2025) EndedAt: 2025-08-15 00:02:59 -0400 (Fri, 15 Aug 2025) EllapsedTime: 848.9 seconds RetCode: 0 Status: OK PackageFile: trackViewer_1.45.2.tar.gz PackageFileSize: 5.579 MiB