Package: trackViewer Version: 1.47.0 Command: /home/biocbuild/bbs-3.23-bioc/R/bin/R CMD INSTALL trackViewer StartedAt: 2025-11-04 15:45:05 -0500 (Tue, 04 Nov 2025) EndedAt: 2025-11-04 15:46:06 -0500 (Tue, 04 Nov 2025) EllapsedTime: 61.3 seconds RetCode: 0 Status: OK