Package: trackViewer Version: 1.47.0 Command: /home/biocbuild/bbs-3.23-bioc/R/bin/R CMD check --install=check:trackViewer.install-out.txt --library=/home/biocbuild/bbs-3.23-bioc/R/site-library --timings trackViewer_1.47.0.tar.gz StartedAt: 2025-11-07 04:38:15 -0500 (Fri, 07 Nov 2025) EndedAt: 2025-11-07 05:00:30 -0500 (Fri, 07 Nov 2025) EllapsedTime: 1334.6 seconds RetCode: 0 Status: OK CheckDir: trackViewer.Rcheck Warnings: 0