Package: trackViewer Version: 1.47.0 Command: /home/biocbuild/bbs-3.23-bioc/R/bin/R CMD build --keep-empty-dirs --no-resave-data trackViewer StartedAt: 2025-11-04 20:27:41 -0500 (Tue, 04 Nov 2025) EndedAt: 2025-11-04 20:39:20 -0500 (Tue, 04 Nov 2025) EllapsedTime: 698.6 seconds RetCode: 0 Status: OK PackageFile: trackViewer_1.47.0.tar.gz PackageFileSize: 10.64 MiB