Package: tpSVG Version: 1.5.0 Command: /home/biocbuild/R/R/bin/R CMD build --keep-empty-dirs --no-resave-data tpSVG StartedAt: 2025-10-21 03:48:09 -0000 (Tue, 21 Oct 2025) EndedAt: 2025-10-21 03:49:57 -0000 (Tue, 21 Oct 2025) EllapsedTime: 108.0 seconds RetCode: 0 Status: OK PackageFile: tpSVG_1.5.0.tar.gz PackageFileSize: 1.259 MiB