Package: tpSVG Version: 1.5.0 Command: /home/biocbuild/bbs-3.22-bioc/R/bin/R CMD check --install=check:tpSVG.install-out.txt --library=/home/biocbuild/bbs-3.22-bioc/R/site-library --timings tpSVG_1.5.0.tar.gz StartedAt: 2025-10-13 05:07:36 -0400 (Mon, 13 Oct 2025) EndedAt: 2025-10-13 05:12:22 -0400 (Mon, 13 Oct 2025) EllapsedTime: 285.3 seconds RetCode: 0 Status: OK CheckDir: tpSVG.Rcheck Warnings: 0