Package: tpSVG Version: 1.7.0 Command: /home/biocbuild/bbs-3.23-bioc/R/bin/R CMD INSTALL tpSVG StartedAt: 2025-11-04 15:21:00 -0500 (Tue, 04 Nov 2025) EndedAt: 2025-11-04 15:21:26 -0500 (Tue, 04 Nov 2025) EllapsedTime: 25.3 seconds RetCode: 0 Status: OK