Package: tpSVG Version: 1.7.0 Command: /home/biocbuild/bbs-3.23-bioc/R/bin/R CMD check --install=check:tpSVG.install-out.txt --library=/home/biocbuild/bbs-3.23-bioc/R/site-library --timings tpSVG_1.7.0.tar.gz StartedAt: 2025-11-24 04:53:04 -0500 (Mon, 24 Nov 2025) EndedAt: 2025-11-24 04:58:04 -0500 (Mon, 24 Nov 2025) EllapsedTime: 299.4 seconds RetCode: 0 Status: OK CheckDir: tpSVG.Rcheck Warnings: 0