Package: topdownr Version: 1.31.1 Command: /Library/Frameworks/R.framework/Resources/bin/R CMD INSTALL topdownr StartedAt: 2025-10-17 15:37:01 -0400 (Fri, 17 Oct 2025) EndedAt: 2025-10-17 15:38:03 -0400 (Fri, 17 Oct 2025) EllapsedTime: 62.2 seconds RetCode: 0 Status: OK