Package: topdownr Version: 1.31.1 Command: /Library/Frameworks/R.framework/Resources/bin/R CMD build --keep-empty-dirs --no-resave-data topdownr StartedAt: 2025-10-17 19:48:57 -0400 (Fri, 17 Oct 2025) EndedAt: 2025-10-17 19:50:46 -0400 (Fri, 17 Oct 2025) EllapsedTime: 108.7 seconds RetCode: 0 Status: OK PackageFile: topdownr_1.31.1.tar.gz PackageFileSize: 1.577 MiB