Package: topdownr Version: 1.31.1 Command: rm -rf topdownr.buildbin-libdir && mkdir topdownr.buildbin-libdir && /Users/biocbuild/BBS/utils/build-universal.sh topdownr_1.31.1.tar.gz /Library/Frameworks/R.framework/Resources/bin/R topdownr.buildbin-libdir StartedAt: 2025-10-18 03:27:32 -0400 (Sat, 18 Oct 2025) EndedAt: 2025-10-18 03:28:38 -0400 (Sat, 18 Oct 2025) EllapsedTime: 66.6 seconds RetCode: 0 Status: OK PackageFile: topdownr_1.31.1.tgz PackageFileSize: 2.373 MiB