Package: topdownr Version: 1.31.0 Command: /Library/Frameworks/R.framework/Resources/bin/R CMD INSTALL topdownr StartedAt: 2025-09-30 15:22:20 -0400 (Tue, 30 Sep 2025) EndedAt: 2025-09-30 15:22:37 -0400 (Tue, 30 Sep 2025) EllapsedTime: 17.3 seconds RetCode: 0 Status: OK