Package: topdownr Version: 1.31.0 Command: /Library/Frameworks/R.framework/Resources/bin/R CMD build --keep-empty-dirs --no-resave-data topdownr StartedAt: 2025-09-30 18:01:51 -0400 (Tue, 30 Sep 2025) EndedAt: 2025-09-30 18:02:29 -0400 (Tue, 30 Sep 2025) EllapsedTime: 38.4 seconds RetCode: 0 Status: OK PackageFile: topdownr_1.31.0.tar.gz PackageFileSize: 1.568 MiB