Package: topdownr Version: 1.33.0 Maintainer: Sebastian Gibb MaintainerEmail: mail at sebastiangibb.de git_url: https://git.bioconductor.org/packages/topdownr git_branch: devel git_last_commit: 3979e4f git_last_commit_date: 2025-10-29 10:41:42 -0500 (Wed, 29 Oct 2025)