Package: topconfects Version: 1.27.0 Command: /home/biocbuild/bbs-3.23-bioc/R/bin/R CMD INSTALL topconfects StartedAt: 2025-11-23 15:08:54 -0500 (Sun, 23 Nov 2025) EndedAt: 2025-11-23 15:09:22 -0500 (Sun, 23 Nov 2025) EllapsedTime: 28.2 seconds RetCode: 0 Status: OK