Package: topconfects Version: 1.27.0 Command: /home/biocbuild/bbs-3.23-bioc/R/bin/R CMD build --keep-empty-dirs --no-resave-data topconfects StartedAt: 2025-11-21 20:33:01 -0500 (Fri, 21 Nov 2025) EndedAt: 2025-11-21 20:35:00 -0500 (Fri, 21 Nov 2025) EllapsedTime: 118.2 seconds RetCode: 0 Status: OK PackageFile: topconfects_1.27.0.tar.gz PackageFileSize: 3.6 MiB