Package: topconfects Version: 1.27.0 Command: /Library/Frameworks/R.framework/Resources/bin/R CMD INSTALL topconfects StartedAt: 2025-11-20 15:04:35 -0500 (Thu, 20 Nov 2025) EndedAt: 2025-11-20 15:04:50 -0500 (Thu, 20 Nov 2025) EllapsedTime: 15.2 seconds RetCode: 0 Status: OK