Package: topconfects Version: 1.27.0 Command: /Library/Frameworks/R.framework/Resources/bin/R CMD build --keep-empty-dirs --no-resave-data topconfects StartedAt: 2025-11-20 17:58:56 -0500 (Thu, 20 Nov 2025) EndedAt: 2025-11-20 17:59:53 -0500 (Thu, 20 Nov 2025) EllapsedTime: 56.6 seconds RetCode: 0 Status: OK PackageFile: topconfects_1.27.0.tar.gz PackageFileSize: 2.544 MiB