Package: topconfects Version: 1.27.0 Command: rm -rf topconfects.buildbin-libdir && mkdir topconfects.buildbin-libdir && /Users/biocbuild/BBS/utils/build-universal.sh topconfects_1.27.0.tar.gz /Library/Frameworks/R.framework/Resources/bin/R topconfects.buildbin-libdir StartedAt: 2025-11-20 23:55:53 -0500 (Thu, 20 Nov 2025) EndedAt: 2025-11-20 23:55:57 -0500 (Thu, 20 Nov 2025) EllapsedTime: 4.1 seconds RetCode: 0 Status: OK PackageFile: topconfects_1.27.0.tgz PackageFileSize: 2.702 MiB